BEGIN:VCALENDAR
VERSION:2.0
PRODID:icalendar-ruby
CALSCALE:GREGORIAN
METHOD:PUBLISH
BEGIN:VEVENT
DTSTAMP:20260421T040618Z
UID:6-317536@calvarychapelmanassas.org
DTSTART:20261011T150000Z
DTEND:20261011T163000Z
CLASS:PUBLIC
CREATED:20260420T212339
DESCRIPTION:
LAST-MODIFIED:20260420T212339
LOCATION:Sanctuary
SUMMARY:Sun. AM Worship & Teaching
URL;VALUE=URI:https://calvarychapelmanassas.org/events/sun-am-worship-teach
 ing/2026-10-11
END:VEVENT
END:VCALENDAR
