BEGIN:VCALENDAR
VERSION:2.0
PRODID:icalendar-ruby
CALSCALE:GREGORIAN
METHOD:PUBLISH
BEGIN:VEVENT
DTSTAMP:20260420T230112Z
UID:6-317330@calvarychapelmanassas.org
DTSTART:20260920T150000Z
DTEND:20260920T163000Z
CLASS:PUBLIC
CREATED:20260420T184923
DESCRIPTION:
LAST-MODIFIED:20260420T184923
LOCATION:Sanctuary
SUMMARY:Sun. AM Worship & Teaching
URL;VALUE=URI:https://calvarychapelmanassas.org/events/sun-am-worship-teach
 ing/2026-09-20
END:VEVENT
END:VCALENDAR
